BEGIN:VCALENDAR
VERSION:2.0
PRODID:-//West Jefferson United Methodist Church, North Carolina - ECPv6.15.11//NONSGML v1.0//EN
CALSCALE:GREGORIAN
METHOD:PUBLISH
X-ORIGINAL-URL:https://wjumc.net
X-WR-CALDESC:Events for West Jefferson United Methodist Church, North Carolina
REFRESH-INTERVAL;VALUE=DURATION:PT1H
X-Robots-Tag:noindex
X-PUBLISHED-TTL:PT1H
BEGIN:VTIMEZONE
TZID:America/New_York
BEGIN:DAYLIGHT
TZOFFSETFROM:-0500
TZOFFSETTO:-0400
TZNAME:EDT
DTSTART:20250309T070000
END:DAYLIGHT
BEGIN:STANDARD
TZOFFSETFROM:-0400
TZOFFSETTO:-0500
TZNAME:EST
DTSTART:20251102T060000
END:STANDARD
BEGIN:DAYLIGHT
TZOFFSETFROM:-0500
TZOFFSETTO:-0400
TZNAME:EDT
DTSTART:20260308T070000
END:DAYLIGHT
BEGIN:STANDARD
TZOFFSETFROM:-0400
TZOFFSETTO:-0500
TZNAME:EST
DTSTART:20261101T060000
END:STANDARD
BEGIN:DAYLIGHT
TZOFFSETFROM:-0500
TZOFFSETTO:-0400
TZNAME:EDT
DTSTART:20270314T070000
END:DAYLIGHT
BEGIN:STANDARD
TZOFFSETFROM:-0400
TZOFFSETTO:-0500
TZNAME:EST
DTSTART:20271107T060000
END:STANDARD
END:VTIMEZONE
BEGIN:VEVENT
DTSTART;TZID=America/New_York:20260405T080000
DTEND;TZID=America/New_York:20260405T084500
DTSTAMP:20260422T182509
CREATED:20260403T200740Z
LAST-MODIFIED:20260403T201605Z
UID:10000157-1775376000-1775378700@wjumc.net
SUMMARY:Service of Light\, Reaffirmation of Baptism
DESCRIPTION:Begin by Gathering in the Columbarium…(weather permitting) \n  \nSanctuary service… \nBreakfast to follow
URL:https://wjumc.net/event-page/service-of-light-reaffirmation-of-baptism/
ATTACH;FMTTYPE=image/jpeg:https://wjumc.net/wp-content/uploads/2026/04/IMG_8056-1.jpeg
END:VEVENT
BEGIN:VEVENT
DTSTART;TZID=America/New_York:20260405T100000
DTEND;TZID=America/New_York:20260405T110000
DTSTAMP:20260422T182509
CREATED:20260403T202007Z
LAST-MODIFIED:20260403T202007Z
UID:10000158-1775383200-1775386800@wjumc.net
SUMMARY:Easter Sunday School
DESCRIPTION:
URL:https://wjumc.net/event-page/easter-sunday-school/
END:VEVENT
BEGIN:VEVENT
DTSTART;TZID=America/New_York:20260405T110000
DTEND;TZID=America/New_York:20260405T120000
DTSTAMP:20260422T182509
CREATED:20260328T175548Z
LAST-MODIFIED:20260328T180644Z
UID:10000154-1775386800-1775390400@wjumc.net
SUMMARY:Easter Sermon:  Because Christ is Risen We Care About…Resurrection
DESCRIPTION:Scripture: John 20: 1-16 \nFirst Hymn: Christ The Lord Is Risen Today UMH 302 \nSecond Hymn: Up From the Grave He Arose UMH 322 \n 
URL:https://wjumc.net/event-page/easter-sermon-because-christ-is-risen-we-care-aboutresurrection/
ATTACH;FMTTYPE=image/jpeg:https://wjumc.net/wp-content/uploads/2024/04/IMG_6421-scaled.jpeg
END:VEVENT
BEGIN:VEVENT
DTSTART;TZID=America/New_York:20260412T110000
DTEND;TZID=America/New_York:20260412T120000
DTSTAMP:20260422T182509
CREATED:20260328T180516Z
LAST-MODIFIED:20260328T181120Z
UID:10000155-1775991600-1775995200@wjumc.net
SUMMARY:Sermon: Because Christ is Risen We Care About…Our Bodies
DESCRIPTION:Scripture: John 20: 19-29 \n\nFirst Hymn: Easter People\, Raise Your Voices UMH 304 \nSecond Hymn: Because He Lives UMH 364
URL:https://wjumc.net/event-page/sermon-because-christ-is-risen-we-care-aboutour-bodies/
END:VEVENT
BEGIN:VEVENT
DTSTART;TZID=America/New_York:20260414T080000
DTEND;TZID=America/New_York:20260414T170000
DTSTAMP:20260422T182509
CREATED:20260415T013720Z
LAST-MODIFIED:20260415T014047Z
UID:10000168-1776153600-1776186000@wjumc.net
SUMMARY:Sermon:  Laity Sunday.  “A Love That Serves”
DESCRIPTION:Scripture: 1 Corinthians 13 \nFirst Hymn: To God Be the Glory UMH 98 \nSecond Hymn: We Are the Church UMH 558
URL:https://wjumc.net/event-page/sermon-laity-sunday-a-love-that-serves/
END:VEVENT
BEGIN:VEVENT
DTSTART;TZID=America/New_York:20260419T110000
DTEND;TZID=America/New_York:20260419T120000
DTSTAMP:20260422T182509
CREATED:20260328T181025Z
LAST-MODIFIED:20260328T181025Z
UID:10000156-1776596400-1776600000@wjumc.net
SUMMARY:Sermon: Because Christ is Risen We Care About…Relationships
DESCRIPTION:Scripture: 1 Peter 4: 8-11 \n\nFirst Hymn: Thine Be the Glory UMH 308 \nSecond Hymn: The Gift of Love UMH 408
URL:https://wjumc.net/event-page/sermon-because-christ-is-risen-we-care-aboutrelationships/
END:VEVENT
BEGIN:VEVENT
DTSTART;TZID=America/New_York:20260426T110000
DTEND;TZID=America/New_York:20260426T120000
DTSTAMP:20260422T182509
CREATED:20260413T231515Z
LAST-MODIFIED:20260413T231515Z
UID:10000159-1777201200-1777204800@wjumc.net
SUMMARY:Sermon: Because Christ is Risen We Care About…Justice
DESCRIPTION:Scripture: Luke 11: 37-47\, 52-54 \nFirst Hymn: Lift Every Voice and Sing UMH 519 \nSecond Hymn: For the Healing of the Nations UMH 428
URL:https://wjumc.net/event-page/sermon-because-christ-is-risen-we-care-aboutjustice/
END:VEVENT
BEGIN:VEVENT
DTSTART;TZID=America/New_York:20260503T110000
DTEND;TZID=America/New_York:20260503T120000
DTSTAMP:20260422T182509
CREATED:20260415T005953Z
LAST-MODIFIED:20260415T010237Z
UID:10000164-1777806000-1777809600@wjumc.net
SUMMARY:Sermon: Because Christ is Risen We Care About…Animals
DESCRIPTION:Scripture: Genesis 9: 8-16 \nFirst Hymn: All Creatures of Our God and King UMH 62 \nSecond Hymn: God of the Sparrow God of the Whale UMH 122
URL:https://wjumc.net/event-page/sermon-because-christ-is-risen-we-care-aboutanimals-2/
ATTACH;FMTTYPE=image/jpeg:https://wjumc.net/wp-content/uploads/2026/04/IMG_8079-scaled.jpeg
END:VEVENT
BEGIN:VEVENT
DTSTART;TZID=America/New_York:20260510T110000
DTEND;TZID=America/New_York:20260510T120000
DTSTAMP:20260422T182509
CREATED:20260413T233953Z
LAST-MODIFIED:20260413T233953Z
UID:10000161-1778410800-1778414400@wjumc.net
SUMMARY:Sermon: Because Christ is Risen We Care About…Creation.
DESCRIPTION:Scripture: Colossians 1:15-20 \nFirst Hymn: Now the Green Blade Riseth UMH 311 \nSecond Hymn: In the Garden UMH 314
URL:https://wjumc.net/event-page/sermon-because-christ-is-risen-we-care-aboutcreation/
END:VEVENT
BEGIN:VEVENT
DTSTART;TZID=America/New_York:20260517T110000
DTEND;TZID=America/New_York:20260517T120000
DTSTAMP:20260422T182509
CREATED:20260413T234155Z
LAST-MODIFIED:20260413T234155Z
UID:10000162-1779015600-1779019200@wjumc.net
SUMMARY:Guest Preacher – Dave Kunzman
DESCRIPTION:
URL:https://wjumc.net/event-page/guest-preacher-dave-kunzman/
END:VEVENT
BEGIN:VEVENT
DTSTART;TZID=America/New_York:20260524T110000
DTEND;TZID=America/New_York:20260524T120000
DTSTAMP:20260422T182509
CREATED:20260415T011443Z
LAST-MODIFIED:20260415T145712Z
UID:10000166-1779620400-1779624000@wjumc.net
SUMMARY:Sermon: Pentecost
DESCRIPTION:Scripture: Acts 2: 1-21 \nFirst Hymn: O For a Thousand Tongues to Sing UMH 57 \nSecond Hymn: Spirit Song UMH 347
URL:https://wjumc.net/event-page/sermon-pentecost-in-2026/
END:VEVENT
BEGIN:VEVENT
DTSTART;TZID=America/New_York:20260531T110000
DTEND;TZID=America/New_York:20260531T120000
DTSTAMP:20260422T182509
CREATED:20260415T012340Z
LAST-MODIFIED:20260415T012340Z
UID:10000167-1780225200-1780228800@wjumc.net
SUMMARY:Pre-School Graduation
DESCRIPTION:*No Sermon – Kids Ceremony” \n\nFirst Hymn: Blessed Assurance UMH 369 \nSecond Hymn: Jesus Loves Me UMH 191
URL:https://wjumc.net/event-page/pre-school-graduation/
ATTACH;FMTTYPE=image/jpeg:https://wjumc.net/wp-content/uploads/2026/04/IMG_8080.jpeg
END:VEVENT
BEGIN:VEVENT
DTSTART;TZID=America/New_York:20260607T110000
DTEND;TZID=America/New_York:20260607T120000
DTSTAMP:20260422T182509
CREATED:20260415T014658Z
LAST-MODIFIED:20260415T014658Z
UID:10000169-1780830000-1780833600@wjumc.net
SUMMARY:Sermon:  A Love That Serves…Laity Sunday
DESCRIPTION:Scripture: 1 Corinthians 13 \nFirst Hymn: To God Be the Glory UMH 98 \nSecond Hymn: We Are the Church UMH 558
URL:https://wjumc.net/event-page/sermon-a-love-that-serveslaity-sunday/
END:VEVENT
END:VCALENDAR