BEGIN:VCALENDAR
VERSION:2.0
PRODID:-//West Jefferson United Methodist Church, North Carolina - ECPv6.15.11//NONSGML v1.0//EN
CALSCALE:GREGORIAN
METHOD:PUBLISH
X-WR-CALNAME:West Jefferson United Methodist Church, North Carolina
X-ORIGINAL-URL:https://wjumc.net
X-WR-CALDESC:Events for West Jefferson United Methodist Church, North Carolina
REFRESH-INTERVAL;VALUE=DURATION:PT1H
X-Robots-Tag:noindex
X-PUBLISHED-TTL:PT1H
BEGIN:VTIMEZONE
TZID:America/New_York
BEGIN:DAYLIGHT
TZOFFSETFROM:-0500
TZOFFSETTO:-0400
TZNAME:EDT
DTSTART:20240310T070000
END:DAYLIGHT
BEGIN:STANDARD
TZOFFSETFROM:-0400
TZOFFSETTO:-0500
TZNAME:EST
DTSTART:20241103T060000
END:STANDARD
BEGIN:DAYLIGHT
TZOFFSETFROM:-0500
TZOFFSETTO:-0400
TZNAME:EDT
DTSTART:20250309T070000
END:DAYLIGHT
BEGIN:STANDARD
TZOFFSETFROM:-0400
TZOFFSETTO:-0500
TZNAME:EST
DTSTART:20251102T060000
END:STANDARD
BEGIN:DAYLIGHT
TZOFFSETFROM:-0500
TZOFFSETTO:-0400
TZNAME:EDT
DTSTART:20260308T070000
END:DAYLIGHT
BEGIN:STANDARD
TZOFFSETFROM:-0400
TZOFFSETTO:-0500
TZNAME:EST
DTSTART:20261101T060000
END:STANDARD
BEGIN:DAYLIGHT
TZOFFSETFROM:-0500
TZOFFSETTO:-0400
TZNAME:EDT
DTSTART:20270314T070000
END:DAYLIGHT
BEGIN:STANDARD
TZOFFSETFROM:-0400
TZOFFSETTO:-0500
TZNAME:EST
DTSTART:20271107T060000
END:STANDARD
END:VTIMEZONE
BEGIN:VEVENT
DTSTART;TZID=America/New_York:20260405T110000
DTEND;TZID=America/New_York:20260405T120000
DTSTAMP:20260422T182614
CREATED:20260328T175548Z
LAST-MODIFIED:20260328T180644Z
UID:10000154-1775386800-1775390400@wjumc.net
SUMMARY:Easter Sermon:  Because Christ is Risen We Care About…Resurrection
DESCRIPTION:Scripture: John 20: 1-16 \nFirst Hymn: Christ The Lord Is Risen Today UMH 302 \nSecond Hymn: Up From the Grave He Arose UMH 322 \n 
URL:https://wjumc.net/event-page/easter-sermon-because-christ-is-risen-we-care-aboutresurrection/
ATTACH;FMTTYPE=image/jpeg:https://wjumc.net/wp-content/uploads/2024/04/IMG_6421-scaled.jpeg
END:VEVENT
BEGIN:VEVENT
DTSTART;TZID=America/New_York:20260405T100000
DTEND;TZID=America/New_York:20260405T110000
DTSTAMP:20260422T182614
CREATED:20260403T202007Z
LAST-MODIFIED:20260403T202007Z
UID:10000158-1775383200-1775386800@wjumc.net
SUMMARY:Easter Sunday School
DESCRIPTION:
URL:https://wjumc.net/event-page/easter-sunday-school/
END:VEVENT
BEGIN:VEVENT
DTSTART;TZID=America/New_York:20260405T080000
DTEND;TZID=America/New_York:20260405T084500
DTSTAMP:20260422T182614
CREATED:20260403T200740Z
LAST-MODIFIED:20260403T201605Z
UID:10000157-1775376000-1775378700@wjumc.net
SUMMARY:Service of Light\, Reaffirmation of Baptism
DESCRIPTION:Begin by Gathering in the Columbarium…(weather permitting) \n  \nSanctuary service… \nBreakfast to follow
URL:https://wjumc.net/event-page/service-of-light-reaffirmation-of-baptism/
ATTACH;FMTTYPE=image/jpeg:https://wjumc.net/wp-content/uploads/2026/04/IMG_8056-1.jpeg
END:VEVENT
BEGIN:VEVENT
DTSTART;TZID=America/New_York:20260329T110000
DTEND;TZID=America/New_York:20260329T120000
DTSTAMP:20260422T182614
CREATED:20260218T013922Z
LAST-MODIFIED:20260328T175959Z
UID:10000152-1774782000-1774785600@wjumc.net
SUMMARY:Palm Sunday    Sermon: The Wilderness: The Long Way to the Cross
DESCRIPTION:Scripture: Matthew 21: 1-11\n\nFirst Hymn: All Glory\, Laud\, and Honor UMH 280\nSecond Hymn: Were You There UMH 288
URL:https://wjumc.net/event-page/palm-sunday-sermon-the-wilderness-the-long-way-to-the-cross/
ATTACH;FMTTYPE=image/jpeg:https://wjumc.net/wp-content/uploads/2026/02/PalmSundayCUW-scaled.jpg
END:VEVENT
BEGIN:VEVENT
DTSTART;TZID=America/New_York:20260322T110000
DTEND;TZID=America/New_York:20260322T120000
DTSTAMP:20260422T182614
CREATED:20260218T013551Z
LAST-MODIFIED:20260218T013551Z
UID:10000151-1774177200-1774180800@wjumc.net
SUMMARY:Sermon:  The Wilderness: Jesus Breaks the Cycle
DESCRIPTION:Scripture: Matthew 4: 1-11\nFirst Hymn: Lord\, Who Throughout These Forty Days UMH 269\nSecond Hymn: Be Thou My Vision UMH 451
URL:https://wjumc.net/event-page/sermon-the-wilderness-jesus-breaks-the-cycle/
END:VEVENT
BEGIN:VEVENT
DTSTART;TZID=America/New_York:20260315T110000
DTEND;TZID=America/New_York:20260315T120000
DTSTAMP:20260422T182614
CREATED:20260218T013347Z
LAST-MODIFIED:20260218T013347Z
UID:10000150-1773572400-1773576000@wjumc.net
SUMMARY:Sermon:  Guest Preacher TBD
DESCRIPTION:
URL:https://wjumc.net/event-page/sermon-guest-preacher-tbd/
END:VEVENT
BEGIN:VEVENT
DTSTART;TZID=America/New_York:20260308T110000
DTEND;TZID=America/New_York:20260308T120000
DTSTAMP:20260422T182615
CREATED:20260218T013052Z
LAST-MODIFIED:20260218T013052Z
UID:10000149-1772967600-1772971200@wjumc.net
SUMMARY:Sermon: The Wilderness: The Cycle
DESCRIPTION:Scripture: Jeremiah 2: 2-8\nFirst Hymn: Come\, Thou Fount of Every Blessing UMH 400\nSecond Hymn: Pass Me Not\, O Gentle Savior UMH 351
URL:https://wjumc.net/event-page/sermon-the-wilderness-the-cycle/
END:VEVENT
BEGIN:VEVENT
DTSTART;TZID=America/New_York:20260301T110000
DTEND;TZID=America/New_York:20260301T120000
DTSTAMP:20260422T182615
CREATED:20260218T012802Z
LAST-MODIFIED:20260218T012813Z
UID:10000148-1772362800-1772366400@wjumc.net
SUMMARY:Sermon: The Wilderness: Resistance Along the Way
DESCRIPTION:Scripture: Exodus 17: 1-7\nFirst Hymn: O God\, Our Help in Ages Past UMH 117\nSecond Hymn: Trust and Obey UMH 467
URL:https://wjumc.net/event-page/sermon-the-wilderness-resistance-along-the-way/
END:VEVENT
BEGIN:VEVENT
DTSTART;TZID=America/New_York:20260222T110000
DTEND;TZID=America/New_York:20260222T120000
DTSTAMP:20260422T182615
CREATED:20260218T012256Z
LAST-MODIFIED:20260218T012256Z
UID:10000147-1771758000-1771761600@wjumc.net
SUMMARY:Sermon: The Wilderness: An Intentional Journey
DESCRIPTION:Scripture: Exodus 16: 1-4\, 9-21\, 31-35\nFirst Hymn: Guide Me\, O Thou Great Jehovah UMH 127\nSecond Hymn: Where He Leads Me UMH 338
URL:https://wjumc.net/event-page/sermon-the-wilderness-an-intentional-journey/
END:VEVENT
BEGIN:VEVENT
DTSTART;TZID=America/New_York:20260218T180000
DTEND;TZID=America/New_York:20260218T183000
DTSTAMP:20260422T182615
CREATED:20260218T032802Z
LAST-MODIFIED:20260218T033112Z
UID:10000153-1771437600-1771439400@wjumc.net
SUMMARY:Ash Wednesday Service
DESCRIPTION:
URL:https://wjumc.net/event-page/ash-wednesday-service/
ATTACH;FMTTYPE=image/jpeg:https://wjumc.net/wp-content/uploads/2026/02/634716641_1214079147596243_2278215870141872623_n.jpg
END:VEVENT
BEGIN:VEVENT
DTSTART;TZID=America/New_York:20260215T110000
DTEND;TZID=America/New_York:20260215T120000
DTSTAMP:20260422T182615
CREATED:20260204T132510Z
LAST-MODIFIED:20260204T132510Z
UID:10000146-1771153200-1771156800@wjumc.net
SUMMARY:Sermon:  This is My Son…
DESCRIPTION:Scripture: Matthew 17:1-13\nFirst Hymn: There’s Something About That Name UMH 171\nSecond Hymn: Lord of the Dance UMH 261
URL:https://wjumc.net/event-page/sermon-this-is-my-son/
END:VEVENT
BEGIN:VEVENT
DTSTART;TZID=America/New_York:20260208T110000
DTEND;TZID=America/New_York:20260208T120000
DTSTAMP:20260422T182615
CREATED:20260204T132150Z
LAST-MODIFIED:20260204T132150Z
UID:10000145-1770548400-1770552000@wjumc.net
SUMMARY:Sermon:  Firm Foundation
DESCRIPTION:Scripture: Matthew 16: 13-20\nFirst Hymn: The Church’s One Foundation UMH 545\nSecond Hymn: Here I Am\, Lord UMH 593
URL:https://wjumc.net/event-page/sermon-firm-foundation/
END:VEVENT
BEGIN:VEVENT
DTSTART;TZID=America/New_York:20251228T110000
DTEND;TZID=America/New_York:20251228T120000
DTSTAMP:20260422T182615
CREATED:20251219T023733Z
LAST-MODIFIED:20251219T024123Z
UID:10000144-1766919600-1766923200@wjumc.net
SUMMARY:Sermon:  Wonder at Christmas
DESCRIPTION:Scripture. Luke 1:30-33 \nFirst Hymn:\nSecond Hymn: Go Tell It On the Mountain UMH 251
URL:https://wjumc.net/event-page/wonder-at-christmas/
END:VEVENT
BEGIN:VEVENT
DTSTART;TZID=America/New_York:20251224T170000
DTEND;TZID=America/New_York:20251224T180000
DTSTAMP:20260422T182615
CREATED:20251114T010833Z
LAST-MODIFIED:20251114T011427Z
UID:10000143-1766595600-1766599200@wjumc.net
SUMMARY:Christmas Eve Candlelight Service
DESCRIPTION:Communion \nMusic \nCandlelighting
URL:https://wjumc.net/event-page/christmas-eve-candlelight-service/
ATTACH;FMTTYPE=image/jpeg:https://wjumc.net/wp-content/uploads/2025/11/IMG_7400.jpeg
END:VEVENT
BEGIN:VEVENT
DTSTART;TZID=America/New_York:20251221T110000
DTEND;TZID=America/New_York:20251221T120000
DTSTAMP:20260422T182615
CREATED:20251103T223825Z
LAST-MODIFIED:20251114T005636Z
UID:10000137-1766314800-1766318400@wjumc.net
SUMMARY:Sermon: Looking Forward
DESCRIPTION:Scripture: Luke 1:50-55 \n\nAdvent Hymn (after lighting the Advent candles) O Come\, O Come Emmanuel\nHymn: Once in Royal David’s City\nHymn: What Child is This\n\n 
URL:https://wjumc.net/event-page/sermon-looking-forward/
END:VEVENT
BEGIN:VEVENT
DTSTART;TZID=America/New_York:20251214T110000
DTEND;TZID=America/New_York:20251214T120000
DTSTAMP:20260422T182615
CREATED:20251103T223359Z
LAST-MODIFIED:20251114T005738Z
UID:10000136-1765710000-1765713600@wjumc.net
SUMMARY:Cantata
DESCRIPTION:Advent Hymn (after lighting the Advent candles) O Come\, O Come Emmanuel \n\nHymn: O Come\, All Ye Faithful\nCantata
URL:https://wjumc.net/event-page/cantata/
END:VEVENT
BEGIN:VEVENT
DTSTART;TZID=America/New_York:20251207T110000
DTEND;TZID=America/New_York:20251207T120000
DTSTAMP:20260422T182615
CREATED:20251103T222946Z
LAST-MODIFIED:20251114T003125Z
UID:10000135-1765105200-1765108800@wjumc.net
SUMMARY:Love Feast
DESCRIPTION:Sermon: Willingness \nScripture: Luke 1:30-33 \n \nAdvent Hymn: (after lighting the Advent candles)  O Come\, O Come Emmanuel \nHymn: Hail to the Lord’s Anointed \nHymn: O Little Town of Bethlehem
URL:https://wjumc.net/event-page/love-feast/
ATTACH;FMTTYPE=image/jpeg:https://wjumc.net/wp-content/uploads/2025/11/IMG_7359.jpeg
END:VEVENT
BEGIN:VEVENT
DTSTART;TZID=America/New_York:20251206T180000
DTEND;TZID=America/New_York:20251206T193000
DTSTAMP:20260422T182615
CREATED:20251114T002714Z
LAST-MODIFIED:20251114T002714Z
UID:10000142-1765044000-1765049400@wjumc.net
SUMMARY:Sounds of the Season at the Old Courthouse
DESCRIPTION:Join your neighbors for some beautiful holiday music hosted by the Museum of Ashe County History.
URL:https://wjumc.net/event-page/sounds-of-the-season-at-the-old-courthouse/
ATTACH;FMTTYPE=image/png:https://wjumc.net/wp-content/uploads/2025/11/Picture1.png
END:VEVENT
BEGIN:VEVENT
DTSTART;TZID=America/New_York:20251130T110000
DTEND;TZID=America/New_York:20251130T120000
DTSTAMP:20260422T182615
CREATED:20251103T222504Z
LAST-MODIFIED:20251114T005537Z
UID:10000134-1764500400-1764504000@wjumc.net
SUMMARY:Sermon: The Promises
DESCRIPTION:Scripture: Isiah 9: 2\, 6-7 \n\nAdvent Hymn (after lighting the Advent candles)   O Come\, O Come Emmanuel\nHymn: Come Thou Long-Expected Jesus\nHymn: It Came Upon the Midnight Clear
URL:https://wjumc.net/event-page/sermon-the-promises/
END:VEVENT
BEGIN:VEVENT
DTSTART;TZID=America/New_York:20251124T180000
DTEND;TZID=America/New_York:20251124T190000
DTSTAMP:20260422T182615
CREATED:20251103T232054Z
LAST-MODIFIED:20251103T232054Z
UID:10000141-1764007200-1764010800@wjumc.net
SUMMARY:Jonah Bible Study
DESCRIPTION:We will be working through the Book of Jonah. All are welcome as we dive into one of the most \nintricate\, fascinating\, and profound one and a half pages of the Bible. \nTuesday\, November 11 \nMonday\, November 17 \nMonday\, November 24 \nWe will be meeting in Hensley Hall from 6 pm to 7 pm. Bring your Bible and \nsomething to write with/on. Hope to see you there! \n 
URL:https://wjumc.net/event-page/jonah-bible-study/2025-11-24/
END:VEVENT
BEGIN:VEVENT
DTSTART;TZID=America/New_York:20251123T110000
DTEND;TZID=America/New_York:20251123T120000
DTSTAMP:20260422T182615
CREATED:20251103T221930Z
LAST-MODIFIED:20251114T010205Z
UID:10000133-1763895600-1763899200@wjumc.net
SUMMARY:Christ the King Sunday
DESCRIPTION:Sermon: Something Else Entirely \nScripture: John 18:33-37 \n\nHymn: Crown Him With Many Crowns\nHymn: Majesty\, Worship His Majesty\n\n  \n  \n 
URL:https://wjumc.net/event-page/christ-the-king-sunday/
END:VEVENT
BEGIN:VEVENT
DTSTART;TZID=America/New_York:20251117T180000
DTEND;TZID=America/New_York:20251117T190000
DTSTAMP:20260422T182615
CREATED:20251103T232054Z
LAST-MODIFIED:20251103T232054Z
UID:10000140-1763402400-1763406000@wjumc.net
SUMMARY:Jonah Bible Study
DESCRIPTION:We will be working through the Book of Jonah. All are welcome as we dive into one of the most \nintricate\, fascinating\, and profound one and a half pages of the Bible. \nTuesday\, November 11 \nMonday\, November 17 \nMonday\, November 24 \nWe will be meeting in Hensley Hall from 6 pm to 7 pm. Bring your Bible and \nsomething to write with/on. Hope to see you there! \n 
URL:https://wjumc.net/event-page/jonah-bible-study/2025-11-17/
END:VEVENT
BEGIN:VEVENT
DTSTART;TZID=America/New_York:20251116T120000
DTEND;TZID=America/New_York:20251116T130000
DTSTAMP:20260422T182615
CREATED:20251103T230736Z
LAST-MODIFIED:20251103T230815Z
UID:10000138-1763294400-1763298000@wjumc.net
SUMMARY:Chili To Go Fundraiser
DESCRIPTION:Noon after worship \nBenefitting the WJUMC Preschool \n$15/quart
URL:https://wjumc.net/event-page/chili-to-go-fundraiser/
ATTACH;FMTTYPE=image/jpeg:https://wjumc.net/wp-content/uploads/2025/11/IMG_9291-1-scaled.jpeg
END:VEVENT
BEGIN:VEVENT
DTSTART;TZID=America/New_York:20251116T110000
DTEND;TZID=America/New_York:20251116T120000
DTSTAMP:20260422T182615
CREATED:20251103T221557Z
LAST-MODIFIED:20251114T010314Z
UID:10000132-1763290800-1763294400@wjumc.net
SUMMARY:Sermon:The Workers in the Vineyard
DESCRIPTION:Scripture: Matthew 20: 1-16 \n\nHymn Rejoice\, the Lord is King\nHymn: Freely\, Freely
URL:https://wjumc.net/event-page/sermonthe-workers-in-the-vineyard/
END:VEVENT
BEGIN:VEVENT
DTSTART;TZID=America/New_York:20251111T180000
DTEND;TZID=America/New_York:20251111T190000
DTSTAMP:20260422T182615
CREATED:20251103T232054Z
LAST-MODIFIED:20251103T232054Z
UID:10000139-1762884000-1762887600@wjumc.net
SUMMARY:Jonah Bible Study
DESCRIPTION:We will be working through the Book of Jonah. All are welcome as we dive into one of the most \nintricate\, fascinating\, and profound one and a half pages of the Bible. \nTuesday\, November 11 \nMonday\, November 17 \nMonday\, November 24 \nWe will be meeting in Hensley Hall from 6 pm to 7 pm. Bring your Bible and \nsomething to write with/on. Hope to see you there! \n 
URL:https://wjumc.net/event-page/jonah-bible-study/2025-11-11/
END:VEVENT
BEGIN:VEVENT
DTSTART;TZID=America/New_York:20251109T110000
DTEND;TZID=America/New_York:20251109T120000
DTSTAMP:20260422T182615
CREATED:20251103T221041Z
LAST-MODIFIED:20251103T221041Z
UID:10000131-1762686000-1762689600@wjumc.net
SUMMARY:Sermon: The Tenants
DESCRIPTION:Scripture: Matthew 21 33-46 \nHymn: All Hail the Power of Jesus Name \nHymn: I Am Thine\, O Lord
URL:https://wjumc.net/event-page/sermon-the-tenants/
END:VEVENT
BEGIN:VEVENT
DTSTART;TZID=America/New_York:20251102T110000
DTEND;TZID=America/New_York:20251102T120000
DTSTAMP:20260422T182615
CREATED:20251103T220423Z
LAST-MODIFIED:20251103T220423Z
UID:10000130-1762081200-1762084800@wjumc.net
SUMMARY:All Saints’ Day
DESCRIPTION:Sermon:  The Mustard Seed \nScripture :  Luke 15: 11-32 \nHymn: Great is Thy Faithfulness \nHym: Hymn of Promise
URL:https://wjumc.net/event-page/all-saints-day/
END:VEVENT
BEGIN:VEVENT
DTSTART;TZID=America/New_York:20251031T170000
DTEND;TZID=America/New_York:20251031T190000
DTSTAMP:20260422T182615
CREATED:20251011T001322Z
LAST-MODIFIED:20251011T001547Z
UID:10000129-1761930000-1761937200@wjumc.net
SUMMARY:Trunk or Treat
DESCRIPTION:Come join the fun!!
URL:https://wjumc.net/event-page/trunk-or-treat/
END:VEVENT
END:VCALENDAR