BEGIN:VCALENDAR
VERSION:2.0
PRODID:-//West Jefferson United Methodist Church, North Carolina - ECPv6.15.11//NONSGML v1.0//EN
CALSCALE:GREGORIAN
METHOD:PUBLISH
X-ORIGINAL-URL:https://wjumc.net
X-WR-CALDESC:Events for West Jefferson United Methodist Church, North Carolina
REFRESH-INTERVAL;VALUE=DURATION:PT1H
X-Robots-Tag:noindex
X-PUBLISHED-TTL:PT1H
BEGIN:VTIMEZONE
TZID:America/New_York
BEGIN:DAYLIGHT
TZOFFSETFROM:-0500
TZOFFSETTO:-0400
TZNAME:EDT
DTSTART:20250309T070000
END:DAYLIGHT
BEGIN:STANDARD
TZOFFSETFROM:-0400
TZOFFSETTO:-0500
TZNAME:EST
DTSTART:20251102T060000
END:STANDARD
BEGIN:DAYLIGHT
TZOFFSETFROM:-0500
TZOFFSETTO:-0400
TZNAME:EDT
DTSTART:20260308T070000
END:DAYLIGHT
BEGIN:STANDARD
TZOFFSETFROM:-0400
TZOFFSETTO:-0500
TZNAME:EST
DTSTART:20261101T060000
END:STANDARD
BEGIN:DAYLIGHT
TZOFFSETFROM:-0500
TZOFFSETTO:-0400
TZNAME:EDT
DTSTART:20270314T070000
END:DAYLIGHT
BEGIN:STANDARD
TZOFFSETFROM:-0400
TZOFFSETTO:-0500
TZNAME:EST
DTSTART:20271107T060000
END:STANDARD
END:VTIMEZONE
BEGIN:VEVENT
DTSTART;TZID=America/New_York:20260412T110000
DTEND;TZID=America/New_York:20260412T120000
DTSTAMP:20260422T144600
CREATED:20260328T180516Z
LAST-MODIFIED:20260328T181120Z
UID:10000155-1775991600-1775995200@wjumc.net
SUMMARY:Sermon: Because Christ is Risen We Care About…Our Bodies
DESCRIPTION:Scripture: John 20: 19-29 \n\nFirst Hymn: Easter People\, Raise Your Voices UMH 304 \nSecond Hymn: Because He Lives UMH 364
URL:https://wjumc.net/event-page/sermon-because-christ-is-risen-we-care-aboutour-bodies/
END:VEVENT
END:VCALENDAR